BEGIN:VCALENDAR
VERSION:2.0
PRODID:-//chikkutakku.com//RDFCal 1.0//EN
X-WR-CALDESC:GoogleカレンダーやiCalendar形式情報を共有シェ
 アしましょう。近所のイベントから全国のイベントま
 で今日のイベント検索やスケジュールを決めるならち
 っくたっく
X-WR-CALNAME:ちっくたっく
X-WR-TIMEZONE:UTC
BEGIN:VEVENT
SUMMARY:ショタふれんずcafe-Lowteen-
DTSTART;VALUE=DATE-TIME:20260422T125500Z
DTEND;VALUE=DATE-TIME:20260422T140000Z
UID:254867925355
DESCRIPTION:【イベント主催者】\n　yak1soba\n【イベント内
 容】\n　ショタ改変をしたまめふれんず達と楽しくお話
 をするコンセプトcafeです\n個性的でとてもかわいい子
 達とのひと時を楽しんでください\n\n【イベントジャン
 ル】\n　店舗系イベント\, ロールプレイ\, 初心者向けイ
 ベント\, 定期イベント\n【参加条件（モデル、人数制限
 など）】\n　グループ参加\n【参加方法】\n　グループ
 参加し、グループインスタンスにて入場\n【https://vrc.gro
 up/SHOTA9.5962】\n【備考】\n　21:55～23:00\n当日の感想や写
 真は【#Lowteen】でポストしていただけると嬉しいです
LOCATION:
END:VEVENT
END:VCALENDAR
