BEGIN:VCALENDAR
VERSION:2.0
PRODID:-//chikkutakku.com//RDFCal 1.0//EN
X-WR-CALDESC:GoogleカレンダーやiCalendar形式情報を共有シェ
 アしましょう。近所のイベントから全国のイベントま
 で今日のイベント検索やスケジュールを決めるならち
 っくたっく
X-WR-CALNAME:ちっくたっく
X-WR-TIMEZONE:UTC
BEGIN:VEVENT
SUMMARY:【犬カフェ ふれあい接客】ゆうゆうもちかふぇ
 〜いぬいぬだらけの犬カフェ〜ランダム営業
DTSTART;VALUE=DATE-TIME:20260514T131500Z
DTEND;VALUE=DATE-TIME:20260514T141500Z
UID:255451945103
DESCRIPTION:【イベント主催者】\n　七つの天狗-天乃\n【イ
 ベント内容】\n　しば犬モチーフのアバター『いぬいぬ
 」たちが本営業のお店を飛び出して、海の見えるお外
 で悠々自適に遊びまわる触れ合い交流のイベントです
 ！\n\nわぁ！大きなお魚さんが空を泳いでる！\n優しい
 風を感じながらお外で草餅をおにんげんと一緒に食べ
 たり\n風車をもってバビューンって一緒に走り回ろ！\n
 【イベントジャンル】\n　その他交流会\, 店舗系イベン
 ト\, ロールプレイ\, 初心者向けイベント\, 定期イベン
 ト\n【参加条件（モデル、人数制限など）】\n　・アバ
 ター容量40面接MB\n・アバター身長1.00～1.60\n・版権アバ
 ターやR18アバターの使用は\n禁止\n詳しくは入口付近の
 「お願いごと」をご覧下さい。\n【参加方法】\n　入退
 出自由です。\nグループインスタンスにて開催致します
 ので、お時間になりましたらお入りください。\n\n途中
 参加の方は、スタッフがご案内致しますので入口でお
 待ちください。\n【備考】\n　【グループURL】\nhttps://vrc
 hat.com/home/group/grp_1a6ca4cb-bc8b-481f-9952-1db45c0ca704
LOCATION:
END:VEVENT
END:VCALENDAR
