BEGIN:VCALENDAR
VERSION:2.0
PRODID:-//chikkutakku.com//RDFCal 1.0//EN
X-WR-CALDESC:GoogleカレンダーやiCalendar形式情報を共有シェ
 アしましょう。近所のイベントから全国のイベントま
 で今日のイベント検索やスケジュールを決めるならち
 っくたっく
X-WR-CALNAME:ちっくたっく
X-WR-TIMEZONE:UTC
BEGIN:VEVENT
SUMMARY:公務員試験 生成AIで差をつける面接・論文
DTSTART;VALUE=DATE:20260519
DTEND;VALUE=DATE:20260520
UID:255657244169
DESCRIPTION:2026-05-20公務員試験 生成AIで差をつける面接・
 論文寺本 康之実務教育出版
LOCATION:
END:VEVENT
END:VCALENDAR
