BEGIN:VCALENDAR
VERSION:2.0
PRODID:-//chikkutakku.com//RDFCal 1.0//EN
X-WR-CALDESC:GoogleカレンダーやiCalendar形式情報を共有シェ
 アしましょう。近所のイベントから全国のイベントま
 で今日のイベント検索やスケジュールを決めるならち
 っくたっく
X-WR-CALNAME:ちっくたっく
X-WR-TIMEZONE:UTC
BEGIN:VEVENT
SUMMARY:TRAIN TV オリジナルドラマ「タビノオト～鎌倉篇～
 」第三章後篇（主演：髙地優吾）
DTSTART;VALUE=DATE:20260422
DTEND;VALUE=DATE:20260423
UID:255678415139
DESCRIPTION:https://ttv.jeki.co.jp/tabinooto/
LOCATION:イベント
END:VEVENT
END:VCALENDAR
