BEGIN:VCALENDAR
VERSION:2.0
PRODID:-//chikkutakku.com//RDFCal 1.0//EN
X-WR-CALDESC:GoogleカレンダーやiCalendar形式情報を共有シェ
 アしましょう。近所のイベントから全国のイベントま
 で今日のイベント検索やスケジュールを決めるならち
 っくたっく
X-WR-CALNAME:ちっくたっく
X-WR-TIMEZONE:UTC
BEGIN:VEVENT
SUMMARY:Caminata "La Mata a Las Tricias"
DTSTART;VALUE=DATE-TIME:20260425T061500Z
DTEND;VALUE=DATE-TIME:20260425T061500Z
UID:256783024464
DESCRIPTION:Programa de Senderismo de Breña Baja + INFO 
LOCATION:Casa El Atajo (salida guagua)
END:VEVENT
END:VCALENDAR
