BEGIN:VCALENDAR
VERSION:2.0
PRODID:-//chikkutakku.com//RDFCal 1.0//EN
X-WR-CALDESC:GoogleカレンダーやiCalendar形式情報を共有シェ
 アしましょう。近所のイベントから全国のイベントま
 で今日のイベント検索やスケジュールを決めるならち
 っくたっく
X-WR-CALNAME:ちっくたっく
X-WR-TIMEZONE:UTC
BEGIN:VEVENT
SUMMARY:【注】銀河鉄道999 #72 大暗黒惑星アフリカ 前編 / 
 #73 大暗黒惑星アフリカ 後編 / #74 17億6千5百万人のくれ
 くれ星 / #75 水の国のシャイアン 前編 / #76 水の国のシ
 ャイアン 後編 / #77 喰命聖女 前編 / #78 喰命聖女 後編
DTSTART;VALUE=DATE-TIME:20260425T220000Z
DTEND;VALUE=DATE-TIME:20260426T013000Z
UID:257449518683
DESCRIPTION: / #72 大暗黒惑星アフリカ 前編 / #73 大暗黒惑
 星アフリカ 後編 / #74 17億6千5百万人のくれくれ星 / #75 
 水の国のシャイアン 前編 / #76 水の国のシャイアン 後
 編 / #77 喰命聖女 前編 / #78 喰命聖女 後編 / https://abema.tv
 /channels/80s-anime-1/slots/DgUGw4LNuoFjWw リピート放送は 22:30～ 
 https://abema.tv/channels/80s-anime-1/slots/Aod7KdYzz7SRTM (無料TS1週
 間) https://prtimes.jp/main/html/rd/p/000003026.000064643.html
LOCATION:なつかしアニメ80's
END:VEVENT
END:VCALENDAR
