BEGIN:VCALENDAR
VERSION:2.0
PRODID:-//chikkutakku.com//RDFCal 1.0//EN
X-WR-CALDESC:GoogleカレンダーやiCalendar形式情報を共有シェ
 アしましょう。近所のイベントから全国のイベントま
 で今日のイベント検索やスケジュールを決めるならち
 っくたっく
X-WR-CALNAME:ちっくたっく
X-WR-TIMEZONE:UTC
BEGIN:VEVENT
SUMMARY:【注】灰原くんの強くて青春ニューゲーム 【灰
 原くんの強くて青春ニューゲームSP】桑原由気・青木佑
 磨のおしゃべりな本棚＠Live！【第39回】
DTSTART;VALUE=DATE-TIME:20260421T110000Z
DTEND;VALUE=DATE-TIME:20260421T120000Z
UID:257892249134
DESCRIPTION: / ^【灰原くんの強くて青春ニューゲームSP】
 桑原由気・青木佑磨のおしゃべりな本棚＠Live！【第39
 回】 / https://www.youtube.com/watch?v=UfR5QkPi03o (終了時間未確
 認) MC：桑原由気、青木佑磨　ゲスト：高尾奏音(星宮陽
 花里 役) https://x.com/HJbunko/status/2044716466336088232
LOCATION:YouTube
END:VEVENT
END:VCALENDAR
