BEGIN:VCALENDAR
VERSION:2.0
PRODID:-//chikkutakku.com//RDFCal 1.0//EN
X-WR-CALDESC:GoogleカレンダーやiCalendar形式情報を共有シェ
 アしましょう。近所のイベントから全国のイベントま
 で今日のイベント検索やスケジュールを決めるならち
 っくたっく
X-WR-CALNAME:ちっくたっく
X-WR-TIMEZONE:UTC
BEGIN:VEVENT
SUMMARY:シニアエンジニアリングリーダーのしごと
DTSTART;VALUE=DATE:20260519
DTEND;VALUE=DATE:20260520
UID:258148933924
DESCRIPTION:2026-05-20シニアエンジニアリングリーダーのし
 ごとJames Stanier/風間 勇志/高口 太朗オライリー・ジャパ
 ン
LOCATION:
END:VEVENT
END:VCALENDAR
