BEGIN:VCALENDAR
VERSION:2.0
PRODID:-//chikkutakku.com//RDFCal 1.0//EN
X-WR-CALDESC:GoogleカレンダーやiCalendar形式情報を共有シェ
 アしましょう。近所のイベントから全国のイベントま
 で今日のイベント検索やスケジュールを決めるならち
 っくたっく
X-WR-CALNAME:ちっくたっく
X-WR-TIMEZONE:UTC
BEGIN:VEVENT
SUMMARY:【メイド&執事RP】浪漫喫茶キャッツテヰル 
DTSTART;VALUE=DATE-TIME:20260422T140000Z
DTEND;VALUE=DATE-TIME:20260422T145900Z
UID:258330353633
DESCRIPTION:【イベント主催者】\n　紗英-sae0214\n【イベン
 ト内容】\n　少し懐かしい香りのする喫茶店で少年少女
 のお給仕係が接客するイベントです。\nローテーション
 方式ですので、お話したい方は是非ご帰宅お待ちして
 おります♪\n【イベントジャンル】\n　店舗系イベント\
 , ロールプレイ\, 初心者向けイベント\, 定期イベント\n
 【参加条件（モデル、人数制限など）】\n　【禁止事項
 】\n・録画&画面共有\n・NSFW、著作権侵害を目的とした
 アバター\n・武器やパーティクルの使用\n・イベント中
 のキャストへのフレンド申請\n・大きすぎるアバターの
 使用\n※アバター容量35MB以下推奨です※\n【参加方法】
 \n　①第１インスタンス(紗英-sae0214)or第２インスタンス
 (だでぃ - MO')にフレンド申請を送ります。\n\n②イベン
 ト時間(23時)になりましたら「招待をリクエスト」を2回
 までお送り下さい。当選された方のみご返信させて頂
 きますので、そのままインスタンスへ入室お願い致し
 ます。\n\n③↑で落選された方は23時5分にもう一度チャ
 レンジが可能です。再度どちらかのインスタンスにリ
 クエストを送って下さい♪\n\n※同名のGroupはキャスト
 用ですのでご注意下さい。\n※五週連続抽選に外れてし
 まった方は公式Xより申請して頂くとイベント参加券を
 一回分プレゼントしております。是非ご活用下さいま
 せ。\n【備考】\n　ハッシュタグ【#VRCキャッツテヰル】
 でXから雰囲気をご覧いただけます！
LOCATION:
END:VEVENT
END:VCALENDAR
