BEGIN:VCALENDAR
VERSION:2.0
PRODID:-//chikkutakku.com//RDFCal 1.0//EN
X-WR-CALDESC:GoogleカレンダーやiCalendar形式情報を共有シェ
 アしましょう。近所のイベントから全国のイベントま
 で今日のイベント検索やスケジュールを決めるならち
 っくたっく
X-WR-CALNAME:ちっくたっく
X-WR-TIMEZONE:UTC
BEGIN:VEVENT
SUMMARY:AVID/STUGO\, volunteering at Women's EXPO
DTSTART;VALUE=DATE-TIME:20260425T144500Z
DTEND;VALUE=DATE-TIME:20260425T210000Z
UID:259368943594
DESCRIPTION:Trevillyan (10 Students)
LOCATION:
END:VEVENT
END:VCALENDAR
