BEGIN:VCALENDAR
VERSION:2.0
PRODID:-//chikkutakku.com//RDFCal 1.0//EN
X-WR-CALDESC:GoogleカレンダーやiCalendar形式情報を共有シェ
 アしましょう。近所のイベントから全国のイベントま
 で今日のイベント検索やスケジュールを決めるならち
 っくたっく
X-WR-CALNAME:ちっくたっく
X-WR-TIMEZONE:UTC
BEGIN:VEVENT
SUMMARY:Co-op Board Installation Dinner
DTSTART;VALUE=DATE-TIME:20260508T163000Z
DTEND;VALUE=DATE-TIME:20260508T190000Z
UID:259856092447
DESCRIPTION:SCHOOL (OFF CAMPUS)\nAshley Schepens\n\n通过 Google Meet 加
 入：https://meet.google.com/qct-xuik-nxz\n或者拨打以下号码：(US
 ) +1 570-599-8489 PIN 码： 600699746#\n更多电话号码: https://tel.m
 eet/qct-xuik-nxz?pin=2355562637425&hs=7\n\n如需详细了解 Google Meet
 ，请访问：https://support.google.com/a/users/answer/9282720
LOCATION:
END:VEVENT
END:VCALENDAR
