BEGIN:VCALENDAR
VERSION:2.0
PRODID:-//chikkutakku.com//RDFCal 1.0//EN
X-WR-CALDESC:GoogleカレンダーやiCalendar形式情報を共有シェ
 アしましょう。近所のイベントから全国のイベントま
 で今日のイベント検索やスケジュールを決めるならち
 っくたっく
X-WR-CALNAME:ちっくたっく
X-WR-TIMEZONE:UTC
BEGIN:VEVENT
SUMMARY:伝説の家政婦 沸騰ワード10 殿堂入りレシピ
DTSTART;VALUE=DATE:20260430
DTEND;VALUE=DATE:20260501
UID:260275969053
DESCRIPTION:2026-05-01伝説の家政婦 沸騰ワード10 殿堂入りレ
 シピタサン 志麻ワニブックス
LOCATION:
END:VEVENT
END:VCALENDAR
