BEGIN:VCALENDAR
VERSION:2.0
PRODID:-//chikkutakku.com//RDFCal 1.0//EN
X-WR-CALDESC:GoogleカレンダーやiCalendar形式情報を共有シェ
 アしましょう。近所のイベントから全国のイベントま
 で今日のイベント検索やスケジュールを決めるならち
 っくたっく
X-WR-CALNAME:ちっくたっく
X-WR-TIMEZONE:UTC
BEGIN:VEVENT
SUMMARY:クジマ歌えば家ほろろ #2 「鵜の真似をする烏」
DTSTART;VALUE=DATE-TIME:20260421T143000Z
DTEND;VALUE=DATE-TIME:20260421T150000Z
UID:261094717893
DESCRIPTION:2 / 鵜の真似をする烏 / 
LOCATION:BS-TBS
END:VEVENT
END:VCALENDAR
