BEGIN:VCALENDAR
VERSION:2.0
PRODID:-//chikkutakku.com//RDFCal 1.0//EN
X-WR-CALDESC:GoogleカレンダーやiCalendar形式情報を共有シェ
 アしましょう。近所のイベントから全国のイベントま
 で今日のイベント検索やスケジュールを決めるならち
 っくたっく
X-WR-CALNAME:ちっくたっく
X-WR-TIMEZONE:UTC
BEGIN:VEVENT
SUMMARY: VRCボクシングメイドカフェ『Ring In』
DTSTART;VALUE=DATE-TIME:20260425T120000Z
DTEND;VALUE=DATE-TIME:20260425T133000Z
UID:262294564819
DESCRIPTION:【イベント主催者】\n　深汰(しんた)\n【イベ
 ント内容】\n　"VRChatにまさかのボクシングメイドカフ
 ェ！？ おかえりなさいませご主人様🥊🩷\nRing Inとは
 …ボクシング×メイドカフェの今まで見たことない組み
 合わせのイベントです！\nご主人様と軽い運動をし、そ
 のあとお給仕で癒されてください✨\n最後に優待チケッ
 トを賭けたチャレンジも待ってるよ♪\n📅毎月土曜日
 　2回\n⏰時間　21:00～22:30\n※リクインは2回まで\nリク
 イン先　深汰（しんた）\nフレンド申請は事前にお願い
 します。\nアカウント→@vrc_RingIn\nハッシュタグ→#VRC_Rin
 gIn"\n【イベントジャンル】\n　店舗系イベント\, 初心者
 向けイベント\, 定期イベント\n【参加条件（モデル、人
 数制限など）】\n　PCVR・無言勢・デスクトップ勢歓迎
 ！\nペアでご帰宅のご主人様は代表者のみリクイン\n【
 参加方法】\n　深汰（しんた）に事前にフレンド申請し
 \n当日、リクインをお願いします！\n【備考】\n　
LOCATION:
END:VEVENT
END:VCALENDAR
