BEGIN:VCALENDAR
VERSION:2.0
PRODID:-//chikkutakku.com//RDFCal 1.0//EN
X-WR-CALDESC:GoogleカレンダーやiCalendar形式情報を共有シェ
 アしましょう。近所のイベントから全国のイベントま
 で今日のイベント検索やスケジュールを決めるならち
 っくたっく
X-WR-CALNAME:ちっくたっく
X-WR-TIMEZONE:UTC
BEGIN:VEVENT
SUMMARY:子づくり婚は幼馴染の御曹司と
DTSTART;VALUE=DATE:20260510
DTEND;VALUE=DATE:20260511
UID:262665189493
DESCRIPTION:2026-05-11子づくり婚は幼馴染の御曹司と葉嶋ナ
 ノハアルファポリス
LOCATION:
END:VEVENT
END:VCALENDAR
