BEGIN:VCALENDAR
VERSION:2.0
PRODID:-//chikkutakku.com//RDFCal 1.0//EN
X-WR-CALDESC:GoogleカレンダーやiCalendar形式情報を共有シェ
 アしましょう。近所のイベントから全国のイベントま
 で今日のイベント検索やスケジュールを決めるならち
 っくたっく
X-WR-CALNAME:ちっくたっく
X-WR-TIMEZONE:UTC
BEGIN:VEVENT
SUMMARY:直感でつかむ三角関数
DTSTART;VALUE=DATE:20260421
DTEND;VALUE=DATE:20260422
UID:263119974987
DESCRIPTION:2026-04-22直感でつかむ三角関数鍵本 聡早川書房
LOCATION:
END:VEVENT
END:VCALENDAR
