BEGIN:VCALENDAR
VERSION:2.0
PRODID:-//chikkutakku.com//RDFCal 1.0//EN
X-WR-CALDESC:GoogleカレンダーやiCalendar形式情報を共有シェ
 アしましょう。近所のイベントから全国のイベントま
 で今日のイベント検索やスケジュールを決めるならち
 っくたっく
X-WR-CALNAME:ちっくたっく
X-WR-TIMEZONE:UTC
BEGIN:VEVENT
SUMMARY:鬼畜貴族に転生した俺、嫁いできた冷血令嬢が愛
 おしすぎて死ぬ
DTSTART;VALUE=DATE:20260429
DTEND;VALUE=DATE:20260430
UID:263685416906
DESCRIPTION:2026-04-30鬼畜貴族に転生した俺、嫁いできた冷
 血令嬢が愛おしすぎて死ぬ岸本和葉/マシマサキ双葉社
LOCATION:
END:VEVENT
END:VCALENDAR
