BEGIN:VCALENDAR
VERSION:2.0
PRODID:-//chikkutakku.com//RDFCal 1.0//EN
X-WR-CALDESC:GoogleカレンダーやiCalendar形式情報を共有シェ
 アしましょう。近所のイベントから全国のイベントま
 で今日のイベント検索やスケジュールを決めるならち
 っくたっく
X-WR-CALNAME:ちっくたっく
X-WR-TIMEZONE:UTC
BEGIN:VEVENT
SUMMARY:<初心者歓迎!> ROOFTOPBAR_FRAN
DTSTART;VALUE=DATE-TIME:20260425T130000Z
DTEND;VALUE=DATE-TIME:20260425T140000Z
UID:264080864124
DESCRIPTION:【イベント主催者】\n　ふらん_(@fran_zng)\n【イ
 ベント内容】\n　「ドリンク片手に、きらめく夜の世界
 へ。」 ビルの屋上にある少人数向けのBARです。夜景を
 見ながらお酒を飲んでおしゃべりしていきませんか？ 
 誰かと話したい、一緒にお酒を飲みたいなど、ご来店
 理由は様々！ 皆様と過ごせる一時間を楽しみにしてお
 ります😉\n\n【イベントジャンル】\n　VR飲み会\, 店舗
 系イベント\, ロールプレイ\n【参加条件（モデル、人数
 制限など）】\n　下記に該当する物についてはご来店を
 お断りしています。\n1․負荷のかかるパーティクルや
 アニメーションを使用したもの。\n2․視界を塞ぐよう
 な大きな羽などの装飾がついたもの。\n3․NSFWに該当す
 るもの。\n4․銃や刃物類を装備し、手に持てる様な改
 変をしたもの。\n5․版権物。\n6․不正入手した物。\n\n
 イベントルールにつきましては当イベントグループに
 記載のルールをお読みになってください。\n\n【参加方
 法】\n　\n【備考】\n　当イベントグループに参加後、
 グループインスタンスにJoin.\n▷https://vrc.group/RTBF.0325\n
 ※承認制のグループとなっております！稀に気づかな
 い場合がございますのでその場合は店長にご連絡くだ
 さい。\n
LOCATION:
END:VEVENT
END:VCALENDAR
