BEGIN:VCALENDAR
VERSION:2.0
PRODID:-//chikkutakku.com//RDFCal 1.0//EN
X-WR-CALDESC:GoogleカレンダーやiCalendar形式情報を共有シェ
 アしましょう。近所のイベントから全国のイベントま
 で今日のイベント検索やスケジュールを決めるならち
 っくたっく
X-WR-CALNAME:ちっくたっく
X-WR-TIMEZONE:UTC
BEGIN:VEVENT
SUMMARY:オペラ「椿姫」＠旧県議会議事堂（一乗閣）
DTSTART;VALUE=DATE-TIME:20260429T040000Z
DTEND;VALUE=DATE-TIME:20260429T060000Z
UID:264161881781
DESCRIPTION:http://cclive.ikora.tv/e1601618.html
LOCATION:旧県議会議事堂（一乗閣）岩出市根来２３４７-
 ２２
END:VEVENT
END:VCALENDAR
