BEGIN:VCALENDAR
VERSION:2.0
PRODID:-//chikkutakku.com//RDFCal 1.0//EN
X-WR-CALDESC:GoogleカレンダーやiCalendar形式情報を共有シェ
 アしましょう。近所のイベントから全国のイベントま
 で今日のイベント検索やスケジュールを決めるならち
 っくたっく
X-WR-CALNAME:ちっくたっく
X-WR-TIMEZONE:UTC
BEGIN:VEVENT
SUMMARY:Tentet to Perform at SACS Junior Rugby Day
DTSTART;VALUE=DATE-TIME:20260508T140000Z
DTEND;VALUE=DATE-TIME:20260508T150000Z
UID:264234992087
DESCRIPTION:Tentet to Perform at SACS Junior Rugby Day
LOCATION:
END:VEVENT
END:VCALENDAR
