BEGIN:VCALENDAR
VERSION:2.0
PRODID:-//chikkutakku.com//RDFCal 1.0//EN
X-WR-CALDESC:GoogleカレンダーやiCalendar形式情報を共有シェ
 アしましょう。近所のイベントから全国のイベントま
 で今日のイベント検索やスケジュールを決めるならち
 っくたっく
X-WR-CALNAME:ちっくたっく
X-WR-TIMEZONE:UTC
BEGIN:VEVENT
SUMMARY:いずれ水帝と呼ばれる少年　～水魔法が最弱？　
 お前たちはまだ本当の水魔法を知らない！～（17）
DTSTART;VALUE=DATE:20260423
DTEND;VALUE=DATE:20260424
UID:264405056295
DESCRIPTION:2026-04-24いずれ水帝と呼ばれる少年　～水魔法
 が最弱？　お前たちはまだ本当の水魔法を知らない！
 ～（17）かたなかじ/さくらもち/相良ケイ/カラスロ/ア
 ンブル編集部ライブコミックス
LOCATION:
END:VEVENT
END:VCALENDAR
