BEGIN:VCALENDAR
VERSION:2.0
PRODID:-//chikkutakku.com//RDFCal 1.0//EN
X-WR-CALDESC:GoogleカレンダーやiCalendar形式情報を共有シェ
 アしましょう。近所のイベントから全国のイベントま
 で今日のイベント検索やスケジュールを決めるならち
 っくたっく
X-WR-CALNAME:ちっくたっく
X-WR-TIMEZONE:UTC
BEGIN:VEVENT
SUMMARY:ポンコツメイドの気まぐれ喫茶
DTSTART;VALUE=DATE-TIME:20260425T140000Z
DTEND;VALUE=DATE-TIME:20260425T150000Z
UID:264427068889
DESCRIPTION:【イベント主催者】\n　yasuodesuyo\n【イベント
 内容】\n　ご主人様に喜んでもらえるように料理や接客
 を覚えるために始めた喫茶店、でも覚える事がたくさ
 んありすぎてごちゃまぜになってしまう！\n注文を聞き
 間違えたり、うまく接客できないかもしれないけどご
 主人様のために喫茶店でお勉強！\n\n【イベントジャン
 ル】\n　店舗系イベント\n【参加条件（モデル、人数制
 限など）】\n　公式Xの営業ツイートまで！\n【参加方法
 】\n　公式Xの営業ツイートまで！\n【備考】\n　イベン
 ト公式X（＠VRC_ponkotu）にイベント情報を更新中　
LOCATION:
END:VEVENT
END:VCALENDAR
