BEGIN:VCALENDAR
VERSION:2.0
PRODID:-//chikkutakku.com//RDFCal 1.0//EN
X-WR-CALDESC:GoogleカレンダーやiCalendar形式情報を共有シェ
 アしましょう。近所のイベントから全国のイベントま
 で今日のイベント検索やスケジュールを決めるならち
 っくたっく
X-WR-CALNAME:ちっくたっく
X-WR-TIMEZONE:UTC
BEGIN:VEVENT
SUMMARY:●2027 Kindergarten Enrolments close
DTSTART;VALUE=DATE:20260423
DTEND;VALUE=DATE:20260424
UID:264430033434
DESCRIPTION:●2027 Kindergarten Enrolments close
LOCATION:
END:VEVENT
END:VCALENDAR
