BEGIN:VCALENDAR
VERSION:2.0
PRODID:-//chikkutakku.com//RDFCal 1.0//EN
X-WR-CALDESC:GoogleカレンダーやiCalendar形式情報を共有シェ
 アしましょう。近所のイベントから全国のイベントま
 で今日のイベント検索やスケジュールを決めるならち
 っくたっく
X-WR-CALNAME:ちっくたっく
X-WR-TIMEZONE:UTC
BEGIN:VEVENT
SUMMARY:Saturday Morning Ride - N142 Backside of the Century
DTSTART;VALUE=DATE-TIME:20260425T140000Z
DTEND;VALUE=DATE-TIME:20260425T170000Z
UID:264492138256
DESCRIPTION:Event: N142 Backside of the CenturyRide quiet backroads on eit
 her a 28-mile\, Figure 8 ride\, a 34-mile or 42-mile\, three loop ride. Al
 l rides share the same 27 miles from Larter Park in Dunstable to Hollis an
 d back. The longer rides add a third loop from Dunstable to Groton and bac
 k. Optional food stop at Monument Square Market or farm stands in Hollis. 
 Post-ride lunch option at Farmhouse Cafe in Dunstable (closes @ 2pm).Leade
 r Will Cancel By 8 AM if Weather or Road Conditions are Questionable.Pleas
 e remember to renew your NVP membership prior to the ride. All non-membe
 rs will be asked to sign a liability waiver.N142-28: https://ridewithgps.
 com/routes/54672233N142-34: https://ridewithgps.com/routes/54800434N142-4
 2: https://ridewithgps.com/routes/54672234Ride Leader: Nancy Marchand (n.
 marchand714@gmail.com)
LOCATION:Larter Field\, 80 Groton St\, Dunstable\, MA 01827\, USA
END:VEVENT
END:VCALENDAR
