BEGIN:VCALENDAR
VERSION:2.0
PRODID:-//chikkutakku.com//RDFCal 1.0//EN
X-WR-CALDESC:GoogleカレンダーやiCalendar形式情報を共有シェ
 アしましょう。近所のイベントから全国のイベントま
 で今日のイベント検索やスケジュールを決めるならち
 っくたっく
X-WR-CALNAME:ちっくたっく
X-WR-TIMEZONE:UTC
BEGIN:VEVENT
SUMMARY:【楽天ブックス限定全巻購入特典+先着特典】TVア
 ニメ『透明男と人間女〜そのうち夫婦になるふたり〜
 』 上巻【Blu-ray】(2Lサイズキャラファインマット（2種
 セット）+シリアルナンバー入り応募券+クリアカード)
DTSTART;VALUE=DATE:20260512
DTEND;VALUE=DATE:20260513
UID:265255064588
DESCRIPTION:2026-05-13【楽天ブックス限定全巻購入特典+先着
 特典】TVアニメ『透明男と人間女〜そのうち夫婦になる
 ふたり〜』 上巻【Blu-ray】(2Lサイズキャラファインマッ
 ト（2種セット）+シリアルナンバー入り応募券+クリア
 カード)(株)ポニーキャニオン
LOCATION:
END:VEVENT
END:VCALENDAR
