BEGIN:VCALENDAR
VERSION:2.0
PRODID:-//chikkutakku.com//RDFCal 1.0//EN
X-WR-CALDESC:GoogleカレンダーやiCalendar形式情報を共有シェ
 アしましょう。近所のイベントから全国のイベントま
 で今日のイベント検索やスケジュールを決めるならち
 っくたっく
X-WR-CALNAME:ちっくたっく
X-WR-TIMEZONE:UTC
BEGIN:VEVENT
SUMMARY:SHS Sports Physicals by Crawford County Health Department
DTSTART;VALUE=DATE-TIME:20260505T130000Z
DTEND;VALUE=DATE-TIME:20260505T200000Z
UID:265327417038
DESCRIPTION:The Crawford County Health Department will be offering sports 
 physicals for your athlete at their school! Cost: $10When:  Tuesday\, Ma
 y 5th at the High School 8:00-3:00              Wednesday\, May 6th
  at the Middle School 8:00-2:00Students will be called out of class to hav
 e their physical completed. Scheduling and payment (cash or check to Crawf
 ord County Health Department) will be through your student’s respective 
 school office. Forms will be in the offices and can also be accessed at h
 ttps://usd247.com/wp-content/uploads/2025/05/form-ppe-physical.pdfhttps://
 usd247.com/wp-content/uploads/2025/05/concussion-form-25-26.pdf
LOCATION:
END:VEVENT
END:VCALENDAR
