BEGIN:VCALENDAR
VERSION:2.0
PRODID:-//chikkutakku.com//RDFCal 1.0//EN
X-WR-CALDESC:GoogleカレンダーやiCalendar形式情報を共有シェ
 アしましょう。近所のイベントから全国のイベントま
 で今日のイベント検索やスケジュールを決めるならち
 っくたっく
X-WR-CALNAME:ちっくたっく
X-WR-TIMEZONE:UTC
BEGIN:VEVENT
SUMMARY:【無料おみやげあり】ブロキマナク・ワンダーラ
 ウンジ
DTSTART;VALUE=DATE-TIME:20260511T130000Z
DTEND;VALUE=DATE-TIME:20260511T140000Z
UID:265440793754
DESCRIPTION:【イベント主催者】\n　カズト-Kazuto-\n【イベ
 ント内容】\n　「ブロキマナク・ワンダーラウンジ」は
 、\n白黒の不思議な遊園地を舞台にしたVR体験型イベン
 トです。\n\n巨大観覧車や幻想的な街並みなど、遊園地
 全体がフォトスポットに！\nさらにショップ「ブロキマ
 ナク」のアバターを試せるサンプル展示、関連ゲーム
 のアートギャラリー、毎月のおみやげなどもご用意し
 ています。\n\nひとりでふらりと訪れても、仲間と一緒
 に巡っても\nきっと忘れられない時間になるはず。\n【
 イベントジャンル】\n　ロールプレイ\, 定期イベント\n
 【参加条件（モデル、人数制限など）】\n　DLサイズ50MB
 まで推奨\n重いシェーダー、パーティクル類、音が出る
 ものは極力ご遠慮ください。\nお召し物は実際に遊園地
 に遊びに行けるかどうかでご判断ください。\n\n当園はP
 C環境(PCVR・デスクトップ)でお楽しみ頂けます。\n\n園内
 の演出上、各種HMD単機・スマートフォンからはご入場
 頂けません。\n誠に申し訳ございませんが、何卒ご容赦
 頂けますようお願い申し上げます。\n【参加方法】\n　
 「ブロキマナク・ワンダーラウンジ」グループ(BRWL.8039)
 にご加入の上、時間になりましたらGroup+インスタンス
 にジョインください。\n【備考】\n　当園はbrochiManac公
 認ファンイベントです。
LOCATION:
END:VEVENT
END:VCALENDAR
