BEGIN:VCALENDAR
VERSION:2.0
PRODID:-//chikkutakku.com//RDFCal 1.0//EN
X-WR-CALDESC:GoogleカレンダーやiCalendar形式情報を共有シェ
 アしましょう。近所のイベントから全国のイベントま
 で今日のイベント検索やスケジュールを決めるならち
 っくたっく
X-WR-CALNAME:ちっくたっく
X-WR-TIMEZONE:UTC
BEGIN:VEVENT
SUMMARY:やめることリスト　「仕事に最適化された思考」
 を手放す
DTSTART;VALUE=DATE:20260421
DTEND;VALUE=DATE:20260422
UID:265521083634
DESCRIPTION:2026-04-22やめることリスト　「仕事に最適化さ
 れた思考」を手放す雨宮百子大和書房
LOCATION:
END:VEVENT
END:VCALENDAR
