BEGIN:VCALENDAR
VERSION:2.0
PRODID:-//chikkutakku.com//RDFCal 1.0//EN
X-WR-CALDESC:GoogleカレンダーやiCalendar形式情報を共有シェ
 アしましょう。近所のイベントから全国のイベントま
 で今日のイベント検索やスケジュールを決めるならち
 っくたっく
X-WR-CALNAME:ちっくたっく
X-WR-TIMEZONE:UTC
BEGIN:VEVENT
SUMMARY:Varsity Track Meet @ Mapleton Invite
DTSTART;VALUE=DATE-TIME:20260501T193000Z
DTEND;VALUE=DATE-TIME:20260501T203000Z
UID:265548170563
DESCRIPTION:Varsity Track Meet @ Mapleton Invite
LOCATION:Mapleton High School Mapleton Middle School\, 1 Mountie Dr\, Ashl
 and\, OH 44805\, USA
END:VEVENT
END:VCALENDAR
