BEGIN:VCALENDAR
VERSION:2.0
PRODID:-//chikkutakku.com//RDFCal 1.0//EN
X-WR-CALDESC:GoogleカレンダーやiCalendar形式情報を共有シェ
 アしましょう。近所のイベントから全国のイベントま
 で今日のイベント検索やスケジュールを決めるならち
 っくたっく
X-WR-CALNAME:ちっくたっく
X-WR-TIMEZONE:UTC
BEGIN:VEVENT
SUMMARY:英語と日本語で学ぶ 流体力学
DTSTART;VALUE=DATE:20260520
DTEND;VALUE=DATE:20260521
UID:265766838926
DESCRIPTION:2026-05-21英語と日本語で学ぶ 流体力学小野 直
 樹共立出版
LOCATION:
END:VEVENT
END:VCALENDAR
