BEGIN:VCALENDAR
VERSION:2.0
PRODID:-//chikkutakku.com//RDFCal 1.0//EN
X-WR-CALDESC:GoogleカレンダーやiCalendar形式情報を共有シェ
 アしましょう。近所のイベントから全国のイベントま
 で今日のイベント検索やスケジュールを決めるならち
 っくたっく
X-WR-CALNAME:ちっくたっく
X-WR-TIMEZONE:UTC
BEGIN:VEVENT
SUMMARY:【接客雑談型】『Cafe NoctLen』
DTSTART;VALUE=DATE-TIME:20260424T130000Z
DTEND;VALUE=DATE-TIME:20260424T140000Z
UID:266376557276
DESCRIPTION:【イベント主催者】\n　KillNea7256\n【イベント
 内容】\n　1ローテ15分のお客様2人に対してキャストが1
 人付く接客雑談型のカフェイベントとなります。一人
 でも無言勢も歓迎です。イベント終了前に集合写真を
 撮ります。撮り次第アフターとなります。 \n【イベン
 トジャンル】\n　店舗系イベント\, 初心者向けイベント
 \n【参加条件（モデル、人数制限など）】\n　アバター
 サイズは50㎆以下\nアバターの身長は1․5m以下でお願い
 します\n【参加方法】\n　22時に開かれるグループイン
 スタンスにjoin\n【備考】\n　グループID　CFNL.8567\n公式X
 　@CafeNoctLen_VRC
LOCATION:
END:VEVENT
END:VCALENDAR
