BEGIN:VCALENDAR
VERSION:2.0
PRODID:-//chikkutakku.com//RDFCal 1.0//EN
X-WR-CALDESC:GoogleカレンダーやiCalendar形式情報を共有シェ
 アしましょう。近所のイベントから全国のイベントま
 で今日のイベント検索やスケジュールを決めるならち
 っくたっく
X-WR-CALNAME:ちっくたっく
X-WR-TIMEZONE:UTC
BEGIN:VEVENT
SUMMARY:追放された冒険者たちはHなダンジョンでなりあ
 がる！（2）
DTSTART;VALUE=DATE:20260524
DTEND;VALUE=DATE:20260525
UID:266476361988
DESCRIPTION:2026-05-25追放された冒険者たちはHなダンジョン
 でなりあがる！（2）内田弘樹/やまぶきりゅう一二三書
 房
LOCATION:
END:VEVENT
END:VCALENDAR
