BEGIN:VCALENDAR
VERSION:2.0
PRODID:-//chikkutakku.com//RDFCal 1.0//EN
X-WR-CALDESC:GoogleカレンダーやiCalendar形式情報を共有シェ
 アしましょう。近所のイベントから全国のイベントま
 で今日のイベント検索やスケジュールを決めるならち
 っくたっく
X-WR-CALNAME:ちっくたっく
X-WR-TIMEZONE:UTC
BEGIN:VEVENT
SUMMARY:【4th】リーグ戦（金大G）
DTSTART;VALUE=DATE-TIME:20260426T064500Z
DTEND;VALUE=DATE-TIME:20260426T101500Z
UID:266653064484
DESCRIPTION:15:45　現地集合\n16:15　審判（4th＋A1）\n16:40　
 アップ開始\n17:40　vs森本中\n19:15　後片付け～現地解散
LOCATION:金沢大学SOLTILO FIELD-A\, 日本、〒920-1164 石川県金
 沢市角間町
END:VEVENT
END:VCALENDAR
