BEGIN:VCALENDAR
VERSION:2.0
PRODID:-//chikkutakku.com//RDFCal 1.0//EN
X-WR-CALDESC:GoogleカレンダーやiCalendar形式情報を共有シェ
 アしましょう。近所のイベントから全国のイベントま
 で今日のイベント検索やスケジュールを決めるならち
 っくたっく
X-WR-CALNAME:ちっくたっく
X-WR-TIMEZONE:UTC
BEGIN:VEVENT
SUMMARY:鍵盤楽器基礎A
DTSTART;VALUE=DATE-TIME:20260420T234000Z
DTEND;VALUE=DATE-TIME:20260421T011000Z
UID:266675778485
DESCRIPTION:(前田恵/棚瀬/稲垣) 心理.音楽.器楽
LOCATION:
END:VEVENT
END:VCALENDAR
