BEGIN:VCALENDAR
VERSION:2.0
PRODID:-//chikkutakku.com//RDFCal 1.0//EN
X-WR-CALDESC:GoogleカレンダーやiCalendar形式情報を共有シェ
 アしましょう。近所のイベントから全国のイベントま
 で今日のイベント検索やスケジュールを決めるならち
 っくたっく
X-WR-CALNAME:ちっくたっく
X-WR-TIMEZONE:UTC
BEGIN:VEVENT
SUMMARY:【注】しかのこのこのここしたんたん #1 ガール
 ・ミーツ・シカ / #2 シカ・ミーツ・暗ガール / #3 ばし
 ゃめ入学 / #4 狙われたシカ部 / #5 アイツの弱みをにぎ
 れ!! / #6 夏のシカ祭り / #7 シカコレとか配信とかおもて
 なしとか / #8 ゆくシカ、くるシカ / #9 体育祭をやり遂
 げろ！ / #10 全部、春のせい… / #11 The pursuer and the pursued
 . / #12 さらばのこたん!? シカ部よ永遠に
DTSTART;VALUE=DATE-TIME:20260422T230000Z
DTEND;VALUE=DATE-TIME:20260423T050000Z
UID:266786697516
DESCRIPTION: / #1 ガール・ミーツ・シカ / #2 シカ・ミーツ
 ・暗ガール / #3 ばしゃめ入学 / #4 狙われたシカ部 / #5 
 アイツの弱みをにぎれ!! / #6 夏のシカ祭り / #7 シカコレ
 とか配信とかおもてなしとか / #8 ゆくシカ、くるシカ /
  #9 体育祭をやり遂げろ！ / #10 全部、春のせい… / #11 Th
 e pursuer and the pursued. / #12 さらばのこたん!? シカ部よ永
 遠に / ([[アニメSPECIAL2 https://abema.tv/timetable/channels/anime-sp
 ecial-2]]) https://abema.tv/channels/anime-special-2/slots/AkN7ZjQeRVn41D 
 (無料TS1週間) ※リピート放送なし
LOCATION:ABEMA特設その他
END:VEVENT
END:VCALENDAR
