BEGIN:VCALENDAR
VERSION:2.0
PRODID:-//chikkutakku.com//RDFCal 1.0//EN
X-WR-CALDESC:GoogleカレンダーやiCalendar形式情報を共有シェ
 アしましょう。近所のイベントから全国のイベントま
 で今日のイベント検索やスケジュールを決めるならち
 っくたっく
X-WR-CALNAME:ちっくたっく
X-WR-TIMEZONE:UTC
BEGIN:VEVENT
SUMMARY:A TR 11時~(綾瀬スポーツ公園)
DTSTART;VALUE=DATE-TIME:20260429T020000Z
DTEND;VALUE=DATE-TIME:20260429T040000Z
UID:266835449076
DESCRIPTION:A TR 11時~(綾瀬スポーツ公園)
LOCATION:綾瀬スポーツ公園多目的広場\, 日本、〒252-1102 
 神奈川県綾瀬市本蓼川３４５
END:VEVENT
END:VCALENDAR
