BEGIN:VCALENDAR
VERSION:2.0
PRODID:-//chikkutakku.com//RDFCal 1.0//EN
X-WR-CALDESC:GoogleカレンダーやiCalendar形式情報を共有シェ
 アしましょう。近所のイベントから全国のイベントま
 で今日のイベント検索やスケジュールを決めるならち
 っくたっく
X-WR-CALNAME:ちっくたっく
X-WR-TIMEZONE:UTC
BEGIN:VEVENT
SUMMARY:建築設計者のためのRhinoceros　［改訂版  Rhino8対応
 ］
DTSTART;VALUE=DATE:20260422
DTEND;VALUE=DATE:20260423
UID:267241126311
DESCRIPTION:2026-04-23建築設計者のためのRhinoceros　［改訂版
   Rhino8対応］アルゴリズムデザインラボ/アルゴリズム
 デザインラボ  重村 珠穂/本間 菫子/豊住 亮太/大木俊輔
 /田島和/日経アーキテクチュア日経BP
LOCATION:
END:VEVENT
END:VCALENDAR
