BEGIN:VCALENDAR
VERSION:2.0
PRODID:-//chikkutakku.com//RDFCal 1.0//EN
X-WR-CALDESC:GoogleカレンダーやiCalendar形式情報を共有シェ
 アしましょう。近所のイベントから全国のイベントま
 で今日のイベント検索やスケジュールを決めるならち
 っくたっく
X-WR-CALNAME:ちっくたっく
X-WR-TIMEZONE:UTC
BEGIN:VEVENT
SUMMARY:バスケットボール（杉並）
DTSTART;VALUE=DATE-TIME:20260517T041500Z
DTEND;VALUE=DATE-TIME:20260517T064500Z
UID:267251484979
DESCRIPTION:バスケットボール（杉並）
LOCATION:中瀬中学校
END:VEVENT
END:VCALENDAR
