BEGIN:VCALENDAR
VERSION:2.0
PRODID:-//chikkutakku.com//RDFCal 1.0//EN
X-WR-CALDESC:GoogleカレンダーやiCalendar形式情報を共有シェ
 アしましょう。近所のイベントから全国のイベントま
 で今日のイベント検索やスケジュールを決めるならち
 っくたっく
X-WR-CALNAME:ちっくたっく
X-WR-TIMEZONE:UTC
BEGIN:VEVENT
SUMMARY:19:00新章 大阪☆春夏秋冬
DTSTART;VALUE=DATE:20260424
DTEND;VALUE=DATE:20260426
UID:268243214745
DESCRIPTION:新章 大阪☆春夏秋冬「Life is ART」リリースイ
 ベントを開催‼️4/25（土）は17:30～4/26（日）は15:30～1
 階阪急側イベントスペース\n4/25 19:00\n4/26 17:00
LOCATION:
END:VEVENT
END:VCALENDAR
