BEGIN:VCALENDAR
VERSION:2.0
PRODID:-//chikkutakku.com//RDFCal 1.0//EN
X-WR-CALDESC:GoogleカレンダーやiCalendar形式情報を共有シェ
 アしましょう。近所のイベントから全国のイベントま
 で今日のイベント検索やスケジュールを決めるならち
 っくたっく
X-WR-CALNAME:ちっくたっく
X-WR-TIMEZONE:UTC
BEGIN:VEVENT
SUMMARY:午前中の時間割り【Blu-ray】
DTSTART;VALUE=DATE:20260519
DTEND;VALUE=DATE:20260520
UID:268274329846
DESCRIPTION:2026-05-20午前中の時間割り【Blu-ray】国木田アコ
 /シャウ・スーメイ/秦野卓爾/沖至/和田周/矢部正男/蜂
 尾和彦/羽仁進キングレコード(株)
LOCATION:
END:VEVENT
END:VCALENDAR
