BEGIN:VCALENDAR
VERSION:2.0
PRODID:-//chikkutakku.com//RDFCal 1.0//EN
X-WR-CALDESC:GoogleカレンダーやiCalendar形式情報を共有シェ
 アしましょう。近所のイベントから全国のイベントま
 で今日のイベント検索やスケジュールを決めるならち
 っくたっく
X-WR-CALNAME:ちっくたっく
X-WR-TIMEZONE:UTC
BEGIN:VEVENT
SUMMARY:オイカワ　チハル の Zoom ミーティング
DTSTART;VALUE=DATE-TIME:20260428T225000Z
DTEND;VALUE=DATE-TIME:20260429T001000Z
UID:268493024402
DESCRIPTION:オイカワ　チハル さんがあなたをスケジュー
 ル済みの Zoom ミーティングに招待しています。\nZoom ミ
 ーティングに参加する\nhttps://us02web.zoom.us/j/86712537934\n\n
 ミーティング ID: 867 1253 7934\n\n---\n\nワンタップ モバイ
 ル\n+13863475053\,\,86712537934# 米国\n+15074734847\,\,86712537934# 米
 国\n\n\n---\n\nSIP で参加\n• 86712537934@zoomcrc.com\n\n参加手順
 \nhttps://us02web.zoom.us/meetings/86712537934/invitations?signature=XAybT
 0gWyGTtWrigHDdofZzEJIsGQ_PAGJQdVfXjnK8\n\n
LOCATION:https://us02web.zoom.us/j/86712537934
END:VEVENT
END:VCALENDAR
