BEGIN:VCALENDAR
VERSION:2.0
PRODID:-//chikkutakku.com//RDFCal 1.0//EN
X-WR-CALDESC:GoogleカレンダーやiCalendar形式情報を共有シェ
 アしましょう。近所のイベントから全国のイベントま
 で今日のイベント検索やスケジュールを決めるならち
 っくたっく
X-WR-CALNAME:ちっくたっく
X-WR-TIMEZONE:UTC
BEGIN:VEVENT
SUMMARY:【Android 対応】生き物好きの集会所「Green Snail」4
 周年
DTSTART;VALUE=DATE-TIME:20260429T120000Z
DTEND;VALUE=DATE-TIME:20260429T130000Z
UID:268514258591
DESCRIPTION:【イベント主催者】\n　Yone_Dell＠ヨネデル\n【
 イベント内容】\n　祝4周年! あなたの好きな生き物は何
 ですか？ 生き物好きの集会所「Green Snail」は生き物が
 好きな人たちが集まる交流イベントです。\n【イベント
 ジャンル】\n　その他交流会\, 学術系イベント\, 定期イ
 ベント\n【参加条件（モデル、人数制限など）】\n　生
 き物が好きな方\n【参加方法】\n　グループ生き物好き
 の集会所「Green Snail」（IKMNZK․9644）に参加してGroupイン
 スタンスに入る（インスタンスが無かった場合、誰で
 もいいのでGroup＋インスタンスを作成してください）\n
 【備考】\n　https://x.com/GreenSnail0429
LOCATION:
END:VEVENT
END:VCALENDAR
