BEGIN:VCALENDAR
VERSION:2.0
PRODID:-//chikkutakku.com//RDFCal 1.0//EN
X-WR-CALDESC:GoogleカレンダーやiCalendar形式情報を共有シェ
 アしましょう。近所のイベントから全国のイベントま
 で今日のイベント検索やスケジュールを決めるならち
 っくたっく
X-WR-CALNAME:ちっくたっく
X-WR-TIMEZONE:UTC
BEGIN:VEVENT
SUMMARY:Egerton Mini Tournament
DTSTART;VALUE=DATE:20260421
DTEND;VALUE=DATE:20260422
UID:268687806991
DESCRIPTION:Rugby u7 and u8\nNetball\, u7 A\, u8 A + B and u9 A + B\nGirls
  Hockey u7 A + B\, u8 and u9\nBoys Hockey u7\, u8 and u9\n\nCoaches are to
  meet at 11:00 in the Egerton staff room.\nMatches will start at 12:00.\nT
 wo staff members will transport learners to Egerton from 10:30.\nLearners 
 must be collected from Egerton after the event.\n*Chantelle\, *Walter
LOCATION:
END:VEVENT
END:VCALENDAR
