BEGIN:VCALENDAR
VERSION:2.0
PRODID:-//chikkutakku.com//RDFCal 1.0//EN
X-WR-CALDESC:GoogleカレンダーやiCalendar形式情報を共有シェ
 アしましょう。近所のイベントから全国のイベントま
 で今日のイベント検索やスケジュールを決めるならち
 っくたっく
X-WR-CALNAME:ちっくたっく
X-WR-TIMEZONE:UTC
BEGIN:VEVENT
SUMMARY:アンダリヤソフトで編む 小さなバッグとポーチ
DTSTART;VALUE=DATE:20260510
DTEND;VALUE=DATE:20260511
UID:269010134119
DESCRIPTION:2026-05-11アンダリヤソフトで編む 小さなバッグ
 とポーチ誠文堂新光社誠文堂新光社
LOCATION:
END:VEVENT
END:VCALENDAR
