BEGIN:VCALENDAR
VERSION:2.0
PRODID:-//chikkutakku.com//RDFCal 1.0//EN
X-WR-CALDESC:GoogleカレンダーやiCalendar形式情報を共有シェ
 アしましょう。近所のイベントから全国のイベントま
 で今日のイベント検索やスケジュールを決めるならち
 っくたっく
X-WR-CALNAME:ちっくたっく
X-WR-TIMEZONE:UTC
BEGIN:VEVENT
SUMMARY:【Android 対応】ラジオ『VAC Now!』
DTSTART;VALUE=DATE-TIME:20260421T133000Z
DTEND;VALUE=DATE-TIME:20260421T142000Z
UID:270606896309
DESCRIPTION:【イベント主催者】\n　VAC\n【イベント内容】\
 n　VERMILIONアバターに関する情報をお届けするラジオで
 す。\nイベントや衣装についてはもちろん、ここでしか
 聞けない情報があるかも！？\n今回はゲストにyouyou2002
 さんをお呼びしています。\n【イベントジャンル】\n　
 定期イベント\n【参加条件（モデル、人数制限など）】
 \n　・過度に重たいアバターはお控えください\n・視界
 ジャックやその他イベントの進行の妨げになるギミッ
 クはお控えください。\n【参加方法】\n　グループイン
 スタンスとなります。\nグループ『VERMILION Avatars Community
 』に参加して開催時間になったらjoinしてください。\n
 グループURL：https://vrc.group/VAC.3242\n【備考】\n　
LOCATION:
END:VEVENT
END:VCALENDAR
