BEGIN:VCALENDAR
VERSION:2.0
PRODID:-//chikkutakku.com//RDFCal 1.0//EN
X-WR-CALDESC:GoogleカレンダーやiCalendar形式情報を共有シェ
 アしましょう。近所のイベントから全国のイベントま
 で今日のイベント検索やスケジュールを決めるならち
 っくたっく
X-WR-CALNAME:ちっくたっく
X-WR-TIMEZONE:UTC
BEGIN:VEVENT
SUMMARY:【音楽/ライブイベント】RESONEX
DTSTART;VALUE=DATE-TIME:20260425T113000Z
DTEND;VALUE=DATE-TIME:20260425T140000Z
UID:271598410307
DESCRIPTION:【イベント主催者】\n　極 エル\n【イベント内
 容】\n　—音楽を通して、最高の感動体験を。—\n音楽
 が共鳴し人が集まり繋がる中心の世界を作っていきた
 いと思っています。\n【イベントジャンル】\n　音楽系
 イベント\n【参加条件（モデル、人数制限など）】\n　E
 xcellentアバター限定、80人まで\nワールドにExcellentのパ
 ブリックアバターの用意もあります。\n【参加方法】\n
 　グループ+インスタンスの為、グループへの参加をお
 願い致します。\nhttps://vrchat.com/home/group/grp_0002beea-1695-40a
 9-add1-b214af0963d1\n【備考】\n　
LOCATION:
END:VEVENT
END:VCALENDAR
