BEGIN:VCALENDAR
VERSION:2.0
PRODID:-//chikkutakku.com//RDFCal 1.0//EN
X-WR-CALDESC:GoogleカレンダーやiCalendar形式情報を共有シェ
 アしましょう。近所のイベントから全国のイベントま
 で今日のイベント検索やスケジュールを決めるならち
 っくたっく
X-WR-CALNAME:ちっくたっく
X-WR-TIMEZONE:UTC
BEGIN:VEVENT
SUMMARY:[Live]SYNC
DTSTART;VALUE=DATE:20260503
DTEND;VALUE=DATE:20260504
UID:271842329707
DESCRIPTION:場所　　: 代官山UNIT\n日程　　: 2026年5月4日(月
 祝)\n時間　　: op12:30 / st13:00\n料金　　: ¥3\,000\nチケッ
 ト: \nt-dv.com/rwr_sync_260504
LOCATION:代官山UNIT\, 日本、〒150-0021 東京都渋谷区恵比寿
 西１丁目３４−１７ ZaHOUSE
END:VEVENT
END:VCALENDAR
