BEGIN:VCALENDAR
VERSION:2.0
PRODID:-//chikkutakku.com//RDFCal 1.0//EN
X-WR-CALDESC:GoogleカレンダーやiCalendar形式情報を共有シェ
 アしましょう。近所のイベントから全国のイベントま
 で今日のイベント検索やスケジュールを決めるならち
 っくたっく
X-WR-CALNAME:ちっくたっく
X-WR-TIMEZONE:UTC
BEGIN:VEVENT
SUMMARY:ビショップマーダーケース
DTSTART;VALUE=DATE:20260421
DTEND;VALUE=DATE:20260429
UID:271992702859
DESCRIPTION:\n【関連/参考ページ】\nhttp://www.hakuhinkan.co.jp//t
 heater/body.htm （銀座博品館劇場）\nhttps://www.hakuhinkan.co.jp/
 theater/archives/event/pr_2026_04_22
LOCATION:銀座博品館劇場【関東】
END:VEVENT
END:VCALENDAR
