BEGIN:VCALENDAR
VERSION:2.0
PRODID:-//chikkutakku.com//RDFCal 1.0//EN
X-WR-CALDESC:GoogleカレンダーやiCalendar形式情報を共有シェ
 アしましょう。近所のイベントから全国のイベントま
 で今日のイベント検索やスケジュールを決めるならち
 っくたっく
X-WR-CALNAME:ちっくたっく
X-WR-TIMEZONE:UTC
BEGIN:VEVENT
SUMMARY:Riding Club - Zoe - Chino\, Maddie Par- Flint \, Mackenzie-NT\, Ad
 dison -  \, Adrianne - buddy Winnie- Barbie\, Stella- \, Marley-
DTSTART;VALUE=DATE-TIME:20260426T203000Z
DTEND;VALUE=DATE-TIME:20260426T220000Z
UID:272048467250
DESCRIPTION:Riding Club - Zoe - Chino\, Maddie Par- Flint \, Mackenzie-NT\
 , Addison -  \, Adrianne - buddy Winnie- Barbie\, Stella- \, Marley-
LOCATION:
END:VEVENT
END:VCALENDAR
