BEGIN:VCALENDAR
VERSION:2.0
PRODID:-//chikkutakku.com//RDFCal 1.0//EN
X-WR-CALDESC:GoogleカレンダーやiCalendar形式情報を共有シェ
 アしましょう。近所のイベントから全国のイベントま
 で今日のイベント検索やスケジュールを決めるならち
 っくたっく
X-WR-CALNAME:ちっくたっく
X-WR-TIMEZONE:UTC
BEGIN:VEVENT
SUMMARY:5/4/-12高三模擬面試
DTSTART;VALUE=DATE:20260503
DTEND;VALUE=DATE:20260512
UID:272325044051
DESCRIPTION:5/4/-12高三模擬面試
LOCATION:
END:VEVENT
END:VCALENDAR
